BEGIN:VCALENDAR
VERSION:2.0
PRODID:-//Demo - Theme 1 | POA Photos Network - ECPv6.15.18//NONSGML v1.0//EN
CALSCALE:GREGORIAN
METHOD:PUBLISH
X-ORIGINAL-URL:https://demo1.poaphotos.net
X-WR-CALDESC:Events for Demo - Theme 1 | POA Photos Network
REFRESH-INTERVAL;VALUE=DURATION:PT1H
X-Robots-Tag:noindex
X-PUBLISHED-TTL:PT1H
BEGIN:VTIMEZONE
TZID:America/Chicago
BEGIN:DAYLIGHT
TZOFFSETFROM:-0600
TZOFFSETTO:-0500
TZNAME:CDT
DTSTART:20240310T080000
END:DAYLIGHT
BEGIN:STANDARD
TZOFFSETFROM:-0500
TZOFFSETTO:-0600
TZNAME:CST
DTSTART:20241103T070000
END:STANDARD
BEGIN:DAYLIGHT
TZOFFSETFROM:-0600
TZOFFSETTO:-0500
TZNAME:CDT
DTSTART:20250309T080000
END:DAYLIGHT
BEGIN:STANDARD
TZOFFSETFROM:-0500
TZOFFSETTO:-0600
TZNAME:CST
DTSTART:20251102T070000
END:STANDARD
BEGIN:DAYLIGHT
TZOFFSETFROM:-0600
TZOFFSETTO:-0500
TZNAME:CDT
DTSTART:20260308T080000
END:DAYLIGHT
BEGIN:STANDARD
TZOFFSETFROM:-0500
TZOFFSETTO:-0600
TZNAME:CST
DTSTART:20261101T070000
END:STANDARD
END:VTIMEZONE
BEGIN:VEVENT
DTSTART;TZID=America/Chicago:20251215T170100
DTEND;TZID=America/Chicago:20251215T210000
DTSTAMP:20260420T092924
CREATED:20220717T222404Z
LAST-MODIFIED:20220717T222404Z
UID:68-1765818060-1765832400@demo1.poaphotos.net
SUMMARY:Holiday Party
DESCRIPTION:Woohoo Holiday PARTY!
URL:https://demo1.poaphotos.net/event/holiday-party/
CATEGORIES:Weekly Meetings
ATTACH;FMTTYPE=image/jpeg:https://demo1.poaphotos.net/wp-content/uploads/sites/8/2022/07/20181220_185849-scaled-1.jpg
END:VEVENT
BEGIN:VEVENT
DTSTART;TZID=America/Chicago:20250729T070000
DTEND;TZID=America/Chicago:20250729T200000
DTSTAMP:20260420T092924
CREATED:20220717T222232Z
LAST-MODIFIED:20220717T222232Z
UID:65-1753772400-1753819200@demo1.poaphotos.net
SUMMARY:Front Page Event List will show 5 items
DESCRIPTION:Front Page Event List will show 5 items
URL:https://demo1.poaphotos.net/event/event-list-will-show-5-items/
LOCATION:Salvation Army Lakewood Temple\, Maplewood\, 55109\, United States
CATEGORIES:Weekly Meetings
END:VEVENT
END:VCALENDAR